BEGIN:VCALENDAR
VERSION:2.0
PRODID:-//Constructo.Wapi - ECPv6.15.17.1//NONSGML v1.0//EN
CALSCALE:GREGORIAN
METHOD:PUBLISH
X-ORIGINAL-URL:https://www.constructowapi.be
X-WR-CALDESC:Évènements pour Constructo.Wapi
REFRESH-INTERVAL;VALUE=DURATION:PT1H
X-Robots-Tag:noindex
X-PUBLISHED-TTL:PT1H
BEGIN:VTIMEZONE
TZID:Europe/Paris
BEGIN:DAYLIGHT
TZOFFSETFROM:+0100
TZOFFSETTO:+0200
TZNAME:CEST
DTSTART:20250330T010000
END:DAYLIGHT
BEGIN:STANDARD
TZOFFSETFROM:+0200
TZOFFSETTO:+0100
TZNAME:CET
DTSTART:20251026T010000
END:STANDARD
BEGIN:DAYLIGHT
TZOFFSETFROM:+0100
TZOFFSETTO:+0200
TZNAME:CEST
DTSTART:20260329T010000
END:DAYLIGHT
BEGIN:STANDARD
TZOFFSETFROM:+0200
TZOFFSETTO:+0100
TZNAME:CET
DTSTART:20261025T010000
END:STANDARD
BEGIN:DAYLIGHT
TZOFFSETFROM:+0100
TZOFFSETTO:+0200
TZNAME:CEST
DTSTART:20270328T010000
END:DAYLIGHT
BEGIN:STANDARD
TZOFFSETFROM:+0200
TZOFFSETTO:+0100
TZNAME:CET
DTSTART:20271031T010000
END:STANDARD
END:VTIMEZONE
BEGIN:VEVENT
DTSTART;VALUE=DATE:20260302
DTEND;VALUE=DATE:20260601
DTSTAMP:20260424T193058
CREATED:20251205T144253Z
LAST-MODIFIED:20260306T120223Z
UID:738-1772409600-1780271999@www.constructowapi.be
SUMMARY:Cashback jusqu'à 400 € chez Maison Sabbe
DESCRIPTION:Grâce aux marques partenaires Bosch et Siemens\, cashback jusqu’à 400€ sur les laves linge\, sèche-linge classe A. \nAppareils de qualité supérieure et très économes. \nVoir conditions en magasin. \n 
URL:https://www.constructowapi.be/event/cashback-sabbe/
ATTACH;FMTTYPE=image/jpeg:https://www.constructowapi.be/wp-content/uploads/2025/12/bosh-cashback.jpg
END:VEVENT
BEGIN:VEVENT
DTSTART;VALUE=DATE:20260302
DTEND;VALUE=DATE:20260701
DTSTAMP:20260424T193058
CREATED:20260323T105932Z
LAST-MODIFIED:20260323T105951Z
UID:9223-1772409600-1782863999@www.constructowapi.be
SUMMARY:10% de réduction chez Michaël Homerin
DESCRIPTION:Réduction de 10 % jusque fin juin 2026 sur le gros œuvre\, maçonnerie béton\, fondation\, égouttage et plancher béton. \nVoir conditions en magasin. \n 
URL:https://www.constructowapi.be/event/10-de-reduction-chez-michael-homerin/
ATTACH;FMTTYPE=image/jpeg:https://www.constructowapi.be/wp-content/uploads/2026/03/michael-homerin-maconnerie.jpg
END:VEVENT
BEGIN:VEVENT
DTSTART;TZID=Europe/Paris:20260315T080000
DTEND;TZID=Europe/Paris:20260415T170000
DTSTAMP:20260424T193058
CREATED:20260306T120017Z
LAST-MODIFIED:20260306T120017Z
UID:9022-1773561600-1776272400@www.constructowapi.be
SUMMARY:Promos Literie chez Mobirêve
DESCRIPTION:Promotions printanières du 15 mars au 15 avril sur toute la literie !
URL:https://www.constructowapi.be/event/promos-literie-chez-mobireve/
ATTACH;FMTTYPE=image/jpeg:https://www.constructowapi.be/wp-content/uploads/MOBIREVE-CONSTRUCTOWAPI-20213.jpg
END:VEVENT
END:VCALENDAR