BEGIN:VCALENDAR
VERSION:2.0
PRODID:-//Constructo.Wapi - ECPv6.15.17.1//NONSGML v1.0//EN
CALSCALE:GREGORIAN
METHOD:PUBLISH
X-ORIGINAL-URL:https://www.constructowapi.be
X-WR-CALDESC:Évènements pour Constructo.Wapi
REFRESH-INTERVAL;VALUE=DURATION:PT1H
X-Robots-Tag:noindex
X-PUBLISHED-TTL:PT1H
BEGIN:VTIMEZONE
TZID:Europe/Paris
BEGIN:DAYLIGHT
TZOFFSETFROM:+0100
TZOFFSETTO:+0200
TZNAME:CEST
DTSTART:20250330T010000
END:DAYLIGHT
BEGIN:STANDARD
TZOFFSETFROM:+0200
TZOFFSETTO:+0100
TZNAME:CET
DTSTART:20251026T010000
END:STANDARD
BEGIN:DAYLIGHT
TZOFFSETFROM:+0100
TZOFFSETTO:+0200
TZNAME:CEST
DTSTART:20260329T010000
END:DAYLIGHT
BEGIN:STANDARD
TZOFFSETFROM:+0200
TZOFFSETTO:+0100
TZNAME:CET
DTSTART:20261025T010000
END:STANDARD
BEGIN:DAYLIGHT
TZOFFSETFROM:+0100
TZOFFSETTO:+0200
TZNAME:CEST
DTSTART:20270328T010000
END:DAYLIGHT
BEGIN:STANDARD
TZOFFSETFROM:+0200
TZOFFSETTO:+0100
TZNAME:CET
DTSTART:20271031T010000
END:STANDARD
END:VTIMEZONE
BEGIN:VEVENT
DTSTART;VALUE=DATE:20260302
DTEND;VALUE=DATE:20260701
DTSTAMP:20260424T222716
CREATED:20260323T105932Z
LAST-MODIFIED:20260323T105951Z
UID:9223-1772409600-1782863999@www.constructowapi.be
SUMMARY:10% de réduction chez Michaël Homerin
DESCRIPTION:Réduction de 10 % jusque fin juin 2026 sur le gros œuvre\, maçonnerie béton\, fondation\, égouttage et plancher béton. \nVoir conditions en magasin. \n 
URL:https://www.constructowapi.be/event/10-de-reduction-chez-michael-homerin/
ATTACH;FMTTYPE=image/jpeg:https://www.constructowapi.be/wp-content/uploads/2026/03/michael-homerin-maconnerie.jpg
END:VEVENT
END:VCALENDAR